BEGIN:VCALENDAR
VERSION:2.0
PRODID:-//Vivre Ensemble - ECPv6.10.2//NONSGML v1.0//EN
CALSCALE:GREGORIAN
METHOD:PUBLISH
X-ORIGINAL-URL:https://vivre-ensemble.org
X-WR-CALDESC:Évènements pour Vivre Ensemble
REFRESH-INTERVAL;VALUE=DURATION:PT1H
X-Robots-Tag:noindex
X-PUBLISHED-TTL:PT1H
BEGIN:VTIMEZONE
TZID:Europe/Paris
BEGIN:DAYLIGHT
TZOFFSETFROM:+0100
TZOFFSETTO:+0200
TZNAME:CEST
DTSTART:20260329T010000
END:DAYLIGHT
BEGIN:STANDARD
TZOFFSETFROM:+0200
TZOFFSETTO:+0100
TZNAME:CET
DTSTART:20261025T010000
END:STANDARD
END:VTIMEZONE
BEGIN:VEVENT
DTSTART;TZID=Europe/Paris:20260611T120000
DTEND;TZID=Europe/Paris:20260611T160000
DTSTAMP:20260424T192926
CREATED:20260330T145144Z
LAST-MODIFIED:20260330T145144Z
UID:2510-1781179200-1781193600@vivre-ensemble.org
SUMMARY:Barbecue de L'ESAT
DESCRIPTION:
URL:https://vivre-ensemble.org/event/barbecue-de-lesat/
LOCATION:ESAT L’ATELIER\, 6 rue Francis Pédron\, CHAMBOURCY\, 78240\, France
END:VEVENT
BEGIN:VEVENT
DTSTART;TZID=Europe/Paris:20260613T100000
DTEND;TZID=Europe/Paris:20260613T223000
DTSTAMP:20260424T192926
CREATED:20260130T134750Z
LAST-MODIFIED:20260130T134750Z
UID:2485-1781344800-1781389800@vivre-ensemble.org
SUMMARY:Nuit du Handicape
DESCRIPTION:
URL:https://vivre-ensemble.org/event/nuit-du-handicape/
LOCATION:le vesinet
END:VEVENT
BEGIN:VEVENT
DTSTART;TZID=Europe/Paris:20260618T183000
DTEND;TZID=Europe/Paris:20260618T223000
DTSTAMP:20260424T192926
CREATED:20260324T070647Z
LAST-MODIFIED:20260324T070647Z
UID:2501-1781807400-1781821800@vivre-ensemble.org
SUMMARY:Dîner d'Eté des Foyers
DESCRIPTION:
URL:https://vivre-ensemble.org/event/diner-dete-des-foyers/
LOCATION:foyer alsace\, rue d'Alsace\, saint germain en laye\, France
END:VEVENT
END:VCALENDAR