BEGIN:VCALENDAR
VERSION:2.0
PRODID:-//Vivre Ensemble - ECPv6.10.2//NONSGML v1.0//EN
CALSCALE:GREGORIAN
METHOD:PUBLISH
X-WR-CALNAME:Vivre Ensemble
X-ORIGINAL-URL:https://vivre-ensemble.org
X-WR-CALDESC:Évènements pour Vivre Ensemble
REFRESH-INTERVAL;VALUE=DURATION:PT1H
X-Robots-Tag:noindex
X-PUBLISHED-TTL:PT1H
BEGIN:VTIMEZONE
TZID:Europe/Paris
BEGIN:DAYLIGHT
TZOFFSETFROM:+0100
TZOFFSETTO:+0200
TZNAME:CEST
DTSTART:20260329T010000
END:DAYLIGHT
BEGIN:STANDARD
TZOFFSETFROM:+0200
TZOFFSETTO:+0100
TZNAME:CET
DTSTART:20261025T010000
END:STANDARD
END:VTIMEZONE
BEGIN:VEVENT
DTSTART;TZID=Europe/Paris:20260530T100000
DTEND;TZID=Europe/Paris:20260530T180000
DTSTAMP:20260424T175509
CREATED:20260130T134605Z
LAST-MODIFIED:20260130T135530Z
UID:2480-1780135200-1780164000@vivre-ensemble.org
SUMMARY:Brocante de Vivre Ensemble
DESCRIPTION:
URL:https://vivre-ensemble.org/event/brocante-de-vivre-ensemble/
LOCATION:FOYER RUE DE POISSY\, 4&-43 rue de Poissy\, SAINT GERMAIN EN LAYE\, 78100\, France
END:VEVENT
BEGIN:VEVENT
DTSTART;TZID=Europe/Paris:20260531T100000
DTEND;TZID=Europe/Paris:20260531T170000
DTSTAMP:20260424T175509
CREATED:20260130T134703Z
LAST-MODIFIED:20260130T134703Z
UID:2482-1780221600-1780246800@vivre-ensemble.org
SUMMARY:Journée Caritative des Bikers
DESCRIPTION:
URL:https://vivre-ensemble.org/event/journee-caritative-des-bikers/
LOCATION:carrière sur seine
END:VEVENT
END:VCALENDAR