BEGIN:VCALENDAR
VERSION:2.0
PRODID:-//Vivre Ensemble - ECPv6.10.2//NONSGML v1.0//EN
CALSCALE:GREGORIAN
METHOD:PUBLISH
X-WR-CALNAME:Vivre Ensemble
X-ORIGINAL-URL:https://vivre-ensemble.org
X-WR-CALDESC:Évènements pour Vivre Ensemble
REFRESH-INTERVAL;VALUE=DURATION:PT1H
X-Robots-Tag:noindex
X-PUBLISHED-TTL:PT1H
BEGIN:VTIMEZONE
TZID:Europe/Paris
BEGIN:DAYLIGHT
TZOFFSETFROM:+0100
TZOFFSETTO:+0200
TZNAME:CEST
DTSTART:20250330T010000
END:DAYLIGHT
BEGIN:STANDARD
TZOFFSETFROM:+0200
TZOFFSETTO:+0100
TZNAME:CET
DTSTART:20251026T010000
END:STANDARD
BEGIN:DAYLIGHT
TZOFFSETFROM:+0100
TZOFFSETTO:+0200
TZNAME:CEST
DTSTART:20260329T010000
END:DAYLIGHT
BEGIN:STANDARD
TZOFFSETFROM:+0200
TZOFFSETTO:+0100
TZNAME:CET
DTSTART:20261025T010000
END:STANDARD
END:VTIMEZONE
BEGIN:VEVENT
DTSTART;TZID=Europe/Paris:20260421T173000
DTEND;TZID=Europe/Paris:20260421T193000
DTSTAMP:20260424T192525
CREATED:20260130T135100Z
LAST-MODIFIED:20260324T071228Z
UID:2490-1776792600-1776799800@vivre-ensemble.org
SUMMARY:Conseil d'Administration
DESCRIPTION:
URL:https://vivre-ensemble.org/event/conseil-dadministration-2/
LOCATION:5 rue de Breuvery\, Saint Germain en Laye\, 5 rue de Breuvery\, saint germain en laye\, France
END:VEVENT
BEGIN:VEVENT
DTSTART;TZID=Europe/Paris:20260224T173000
DTEND;TZID=Europe/Paris:20260224T193000
DTSTAMP:20260424T192525
CREATED:20260130T135010Z
LAST-MODIFIED:20260324T071258Z
UID:2487-1771954200-1771961400@vivre-ensemble.org
SUMMARY:Conseil d'Administration
DESCRIPTION:
URL:https://vivre-ensemble.org/event/conseil-dadministration/
LOCATION:5 rue de Breuvery\, Saint Germain en Laye\, 5 rue de Breuvery\, saint germain en laye\, France
END:VEVENT
BEGIN:VEVENT
DTSTART;TZID=Europe/Paris:20251213T100000
DTEND;TZID=Europe/Paris:20251213T170000
DTSTAMP:20260424T192525
CREATED:20251210T071457Z
LAST-MODIFIED:20251210T071457Z
UID:2402-1765620000-1765645200@vivre-ensemble.org
SUMMARY:Marché de Noël 2025
DESCRIPTION:
URL:https://vivre-ensemble.org/event/marche-de-noel-2025/
END:VEVENT
BEGIN:VEVENT
DTSTART;TZID=Europe/Paris:20250920T140000
DTEND;TZID=Europe/Paris:20250920T190000
DTSTAMP:20260424T192525
CREATED:20250326T153519Z
LAST-MODIFIED:20250326T154851Z
UID:2324-1758376800-1758394800@vivre-ensemble.org
SUMMARY:20 ans du FAM
DESCRIPTION:
URL:https://vivre-ensemble.org/event/20-ans-du-fam/
LOCATION:mareil marly\, les champs droux\, Mareil Marly\, France
END:VEVENT
BEGIN:VEVENT
DTSTART;TZID=Europe/Paris:20250619T190000
DTEND;TZID=Europe/Paris:20250619T223000
DTSTAMP:20260424T192525
CREATED:20250326T153409Z
LAST-MODIFIED:20250326T153409Z
UID:2320-1750359600-1750372200@vivre-ensemble.org
SUMMARY:Fête du Foyer
DESCRIPTION:
URL:https://vivre-ensemble.org/event/fete-du-foyer/
LOCATION:foyer alsace\, rue d'Alsace\, saint germain en laye\, France
END:VEVENT
BEGIN:VEVENT
DTSTART;TZID=Europe/Paris:20250614T140000
DTEND;TZID=Europe/Paris:20250614T220000
DTSTAMP:20260424T192525
CREATED:20250326T153254Z
LAST-MODIFIED:20250326T154758Z
UID:2317-1749909600-1749938400@vivre-ensemble.org
SUMMARY:Nuit du Handicap
DESCRIPTION:
URL:https://vivre-ensemble.org/event/nuit-du-handicap/
LOCATION:le vesinet
END:VEVENT
BEGIN:VEVENT
DTSTART;TZID=Europe/Paris:20250612T120000
DTEND;TZID=Europe/Paris:20250612T163000
DTSTAMP:20260424T192525
CREATED:20250319T141322Z
LAST-MODIFIED:20250319T141322Z
UID:2253-1749729600-1749745800@vivre-ensemble.org
SUMMARY:Fête de l'été de l'ESAT
DESCRIPTION:
URL:https://vivre-ensemble.org/event/fete-de-lete-de-lesat/
LOCATION:ESAT L’ATELIER\, 6 rue Francis Pédron\, CHAMBOURCY\, 78240\, France
ORGANIZER;CN="Jos%C3%A9 CENTURIO":MAILTO:secretariat.esat@vivre-ensemble.fr
END:VEVENT
BEGIN:VEVENT
DTSTART;TZID=Europe/Paris:20250525T080000
DTEND;TZID=Europe/Paris:20250525T170000
DTSTAMP:20260424T192525
CREATED:20250326T153145Z
LAST-MODIFIED:20250326T153145Z
UID:2314-1748160000-1748192400@vivre-ensemble.org
SUMMARY:Sortie Vélo Convergence
DESCRIPTION:
URL:https://vivre-ensemble.org/event/sortie-velo-convergence/
LOCATION:foyer de poissy\, 41-43 rue de Poissy\, Saint Germaine en laye\, 78100\, France
END:VEVENT
BEGIN:VEVENT
DTSTART;TZID=Europe/Paris:20250524T090000
DTEND;TZID=Europe/Paris:20250524T190000
DTSTAMP:20260424T192525
CREATED:20250423T135442Z
LAST-MODIFIED:20250423T135442Z
UID:2351-1748077200-1748113200@vivre-ensemble.org
SUMMARY:Vide Grenier 2025
DESCRIPTION:
URL:https://vivre-ensemble.org/event/vide-grenier-2025/
LOCATION:foyer de poissy\, 41-43 rue de Poissy\, Saint Germaine en laye\, 78100\, France
END:VEVENT
BEGIN:VEVENT
DTSTART;TZID=Europe/Paris:20250518T143000
DTEND;TZID=Europe/Paris:20250518T173000
DTSTAMP:20260424T192525
CREATED:20250326T153035Z
LAST-MODIFIED:20250326T154618Z
UID:2311-1747578600-1747589400@vivre-ensemble.org
SUMMARY:Rencontre Kustom Bikers
DESCRIPTION:
URL:https://vivre-ensemble.org/event/rencontre-kustom-bikers/
LOCATION:carriere\, Carrieres sur Seine
END:VEVENT
BEGIN:VEVENT
DTSTART;TZID=Europe/Paris:20250517T090000
DTEND;TZID=Europe/Paris:20250517T170000
DTSTAMP:20260424T192525
CREATED:20250326T152814Z
LAST-MODIFIED:20250326T154656Z
UID:2307-1747472400-1747501200@vivre-ensemble.org
SUMMARY:Les Olympiades du Vivre Ensemble
DESCRIPTION:
URL:https://vivre-ensemble.org/event/les-olympiades/
LOCATION:VERSAILLES\, STADE MONTBAURON\, 78000\, France
END:VEVENT
END:VCALENDAR