BEGIN:VCALENDAR
VERSION:2.0
PRODID:-//Vivre Ensemble - ECPv6.10.2//NONSGML v1.0//EN
CALSCALE:GREGORIAN
METHOD:PUBLISH
X-WR-CALNAME:Vivre Ensemble
X-ORIGINAL-URL:https://vivre-ensemble.org
X-WR-CALDESC:Évènements pour Vivre Ensemble
REFRESH-INTERVAL;VALUE=DURATION:PT1H
X-Robots-Tag:noindex
X-PUBLISHED-TTL:PT1H
BEGIN:VTIMEZONE
TZID:Europe/Paris
BEGIN:DAYLIGHT
TZOFFSETFROM:+0100
TZOFFSETTO:+0200
TZNAME:CEST
DTSTART:20260329T010000
END:DAYLIGHT
BEGIN:STANDARD
TZOFFSETFROM:+0200
TZOFFSETTO:+0100
TZNAME:CET
DTSTART:20261025T010000
END:STANDARD
END:VTIMEZONE
BEGIN:VEVENT
DTSTART;TZID=Europe/Paris:20260613T100000
DTEND;TZID=Europe/Paris:20260613T223000
DTSTAMP:20260424T210153
CREATED:20260130T134750Z
LAST-MODIFIED:20260130T134750Z
UID:2485-1781344800-1781389800@vivre-ensemble.org
SUMMARY:Nuit du Handicape
DESCRIPTION:
URL:https://vivre-ensemble.org/event/nuit-du-handicape/
LOCATION:le vesinet
END:VEVENT
END:VCALENDAR