BEGIN:VCALENDAR
VERSION:2.0
PRODID:-//Vivre Ensemble - ECPv6.10.2//NONSGML v1.0//EN
CALSCALE:GREGORIAN
METHOD:PUBLISH
X-ORIGINAL-URL:https://vivre-ensemble.org
X-WR-CALDESC:Évènements pour Vivre Ensemble
REFRESH-INTERVAL;VALUE=DURATION:PT1H
X-Robots-Tag:noindex
X-PUBLISHED-TTL:PT1H
BEGIN:VTIMEZONE
TZID:Europe/Paris
BEGIN:DAYLIGHT
TZOFFSETFROM:+0100
TZOFFSETTO:+0200
TZNAME:CEST
DTSTART:20250330T010000
END:DAYLIGHT
BEGIN:STANDARD
TZOFFSETFROM:+0200
TZOFFSETTO:+0100
TZNAME:CET
DTSTART:20251026T010000
END:STANDARD
END:VTIMEZONE
BEGIN:VEVENT
DTSTART;TZID=Europe/Paris:20250920T140000
DTEND;TZID=Europe/Paris:20250920T190000
DTSTAMP:20260425T031102
CREATED:20250326T153519Z
LAST-MODIFIED:20250326T154851Z
UID:2324-1758376800-1758394800@vivre-ensemble.org
SUMMARY:20 ans du FAM
DESCRIPTION:
URL:https://vivre-ensemble.org/event/20-ans-du-fam/
LOCATION:mareil marly\, les champs droux\, Mareil Marly\, France
END:VEVENT
END:VCALENDAR